BEGIN:VCALENDAR
VERSION:2.0
PRODID:-//ConVerve GmbH//B2BMatch//EN
METHOD:PUBLISH
BEGIN:VEVENT
DTSTART:20260203T060000Z
DTEND:20260204T220000Z
SUMMARY:Visit Iceland Workshops 2026
LOCATION:Edinburgh & Dublin
DESCRIPTION:
UID:0000001
DTSTAMP:20180215T145139Z
END:VEVENT
END:VCALENDAR
